Workbook

Sheet Календарь
B2: Хак Фин. Платежный календарь
B3: Скользящие 12 периодов. Учебные данные. Голубые ячейки — ввод. Суммы в выбранной валюте без конвертации.
B5: Дата первого окна | C5: 46266 | E5: Шаг | F5: Неделя | H5: Сдвиг окна | I5: 0 | K5: Факт по дату | L5: 46280
B6: Дата базы | C6: 46266 | E6: Деньги на базу | F6: 250000 | H6: Валюта | I6: RUB | K6: Мин. резерв | L6: 50000
B8: Начало окна | C8: =C32 -> 46266 | E8: Конец окна | F8: =N33 -> 46348 | H8: Следующее окно | I8: =N33+1 -> 46349 | K8: Состояние | L8: =IF(NOT(IFERROR(AND(ISNUMBER(C5),ISNUMBER(C6),ISNUMBER(F6),ISNUMBER(L5),ISNUMBER(L6),ISNUMBER(I5),I5=INT(I5),OR(F5="День",F5="Неделя",F5="Месяц"),C32>=C6,L5>=C6-1,L6>=0,C5=INT(C5),C6=INT(C6),L5=INT(L5),C5>=36526,C6>=36526,C6<=109574,L5>=36525,L5<=109574,ABS(I5)<=1000,N33<=109574,I6<>""),FALSE())),"Проверьте параметры",IF(COUNTA(Планы!A112:I211)+COUNTA(Оплаты!A512:H611)>0,"Превышен лимит",IF(COUNTIFS(Планы!$K$12:$K$111,"Ошибка: поля или тип")+COUNTIFS(Планы!$K$12:$K$111,"Ошибка: дата или сумма")+COUNTIFS(Планы!$K$12:$K$111,"Ошибка: последний срок")+COUNTIFS(Планы!$K$12:$K$111,"Ошибка: повтор ID")+COUNTIFS(Оплаты!$I$12:$I$511,"Ошибка: поля или тип")+COUNTIFS(Оплаты!$I$12:$I$511,"Ошибка: дата или сумма")+COUNTIFS(Оплаты!$I$12:$I$511,"Ошибка: повтор ID")+COUNTIFS(Оплаты!$I$12:$I$511,"Ошибка: внеплановая статья/срок")+COUNTIFS(Оплаты!$I$12:$I$511,"Ошибка: ID плана")+COUNTIFS(Оплаты!$I$12:$I$511,"Ошибка: исходный план")+COUNTIFS(Оплаты!$I$12:$I$511,"Ошибка: срок/направление")+COUNTIFS(Оплаты!$I$12:$I$511,"Ошибка: нет повторения")>0,"Есть ошибки ввода","OK"))) -> OK
B10: Сдвиг 0 — первое окно, 1 — следующие 12 периодов. Меняйте дату, шаг или сдвиг: таблица и диаграммы перестроятся.
B11: Неделя заканчивается в воскресенье, месяц — в последний день. Первое окно может начинаться внутри недели или месяца.
B12: На конец окна | E12: Минимум на границах | H12: Просрочено: приход | K12: Просрочено: расход
C13: =IF($L$8<>"OK","",N44) -> 60000 | F13: =IF($L$8<>"OK","",MIN(C35:N35,C44:N44)) -> 60000 | I13: =IF($L$8<>"OK","",SUMIFS(Планы!$N$12:$N$111,Планы!$D$12:$D$111,"Приход")-SUMIFS(Оплаты!$L$12:$L$511,Оплаты!$C$12:$C$511,"Приход",Оплаты!$F$12:$F$511,">="&($C$6),Оплаты!$F$12:$F$511,"<="&($L$5))) -> 20000 | L13: =IF($L$8<>"OK","",SUMIFS(Планы!$N$12:$N$111,Планы!$D$12:$D$111,"Расход")-SUMIFS(Оплаты!$L$12:$L$511,Оплаты!$C$12:$C$511,"Расход",Оплаты!$F$12:$F$511,">="&($C$6),Оплаты!$F$12:$F$511,"<="&($L$5))) -> 10000
B32: Начало периода | C32: =IF(OR(NOT(ISNUMBER($C$5)),NOT(ISNUMBER($I$5))),"",IF($I$5=0,$C$5,IF($F$5="День",$C$5+12*$I$5,IF($F$5="Неделя",$C$5-WEEKDAY($C$5,2)+1+84*$I$5,EDATE(DATE(YEAR($C$5),MONTH($C$5),1),12*$I$5))))) -> 46266 | D32: =IF(ISNUMBER(C33),C33+1,"") -> 46272 | E32: =IF(ISNUMBER(D33),D33+1,"") -> 46279 | F32: =IF(ISNUMBER(E33),E33+1,"") -> 46286 | G32: =IF(ISNUMBER(F33),F33+1,"") -> 46293 | H32: =IF(ISNUMBER(G33),G33+1,"") -> 46300 | I32: =IF(ISNUMBER(H33),H33+1,"") -> 46307 | J32: =IF(ISNUMBER(I33),I33+1,"") -> 46314 | K32: =IF(ISNUMBER(J33),J33+1,"") -> 46321 | ... N32: =IF(ISNUMBER(M33),M33+1,"") -> 46342
B33: Конец периода | C33: =IF(NOT(ISNUMBER(C32)),"",IF($F$5="День",C32,IF($F$5="Неделя",C32+7-WEEKDAY(C32,2),EOMONTH(C32,0)))) -> 46271 | D33: =IF(NOT(ISNUMBER(D32)),"",IF($F$5="День",D32,IF($F$5="Неделя",D32+7-WEEKDAY(D32,2),EOMONTH(D32,0)))) -> 46278 | E33: =IF(NOT(ISNUMBER(E32)),"",IF($F$5="День",E32,IF($F$5="Неделя",E32+7-WEEKDAY(E32,2),EOMONTH(E32,0)))) -> 46285 | F33: =IF(NOT(ISNUMBER(F32)),"",IF($F$5="День",F32,IF($F$5="Неделя",F32+7-WEEKDAY(F32,2),EOMONTH(F32,0)))) -> 46292 | G33: =IF(NOT(ISNUMBER(G32)),"",IF($F$5="День",G32,IF($F$5="Неделя",G32+7-WEEKDAY(G32,2),EOMONTH(G32,0)))) -> 46299 | H33: =IF(NOT(ISNUMBER(H32)),"",IF($F$5="День",H32,IF($F$5="Неделя",H32+7-WEEKDAY(H32,2),EOMONTH(H32,0)))) -> 46306 | I33: =IF(NOT(ISNUMBER(I32)),"",IF($F$5="День",I32,IF($F$5="Неделя",I32+7-WEEKDAY(I32,2),EOMONTH(I32,0)))) -> 46313 | J33: =IF(NOT(ISNUMBER(J32)),"",IF($F$5="День",J32,IF($F$5="Неделя",J32+7-WEEKDAY(J32,2),EOMONTH(J32,0)))) -> 46320 | ... N33: =IF(NOT(ISNUMBER(N32)),"",IF($F$5="День",N32,IF($F$5="Неделя",N32+7-WEEKDAY(N32,2),EOMONTH(N32,0)))) -> 46348
B34: ДЕНЕЖНЫЕ ПОТОКИ | C34: =IF(NOT(ISNUMBER(C32)),"",IF($F$5="Месяц",CHOOSE(MONTH(C32),"янв","фев","мар","апр","май","июн","июл","авг","сен","окт","ноя","дек")&" "&YEAR(C32),DAY(C32)&" "&CHOOSE(MONTH(C32),"янв","фев","мар","апр","май","июн","июл","авг","сен","окт","ноя","дек"))) -> 1 сен | D34: =IF(NOT(ISNUMBER(D32)),"",IF($F$5="Месяц",CHOOSE(MONTH(D32),"янв","фев","мар","апр","май","июн","июл","авг","сен","окт","ноя","дек")&" "&YEAR(D32),DAY(D32)&" "&CHOOSE(MONTH(D32),"янв","фев","мар","апр","май","июн","июл","авг","сен","окт","ноя","дек"))) -> 7 сен | E34: =IF(NOT(ISNUMBER(E32)),"",IF($F$5="Месяц",CHOOSE(MONTH(E32),"янв","фев","мар","апр","май","июн","июл","авг","сен","окт","ноя","дек")&" "&YEAR(E32),DAY(E32)&" "&CHOOSE(MONTH(E32),"янв","фев","мар","апр","май","июн","июл","авг","сен","окт","ноя","дек"))) -> 14 сен | F34: =IF(NOT(ISNUMBER(F32)),"",IF($F$5="Месяц",CHOOSE(MONTH(F32),"янв","фев","мар","апр","май","июн","июл","авг","сен","окт","ноя","дек")&" "&YEAR(F32),DAY(F32)&" "&CHOOSE(MONTH(F32),"янв","фев","мар","апр","май","июн","июл","авг","сен","окт","ноя","дек"))) -> 21 сен | G34: =IF(NOT(ISNUMBER(G32)),"",IF($F$5="Месяц",CHOOSE(MONTH(G32),"янв","фев","мар","апр","май","июн","июл","авг","сен","окт","ноя","дек")&" "&YEAR(G32),DAY(G32)&" "&CHOOSE(MONTH(G32),"янв","фев","мар","апр","май","июн","июл","авг","сен","окт","ноя","дек"))) -> 28 сен | H34: =IF(NOT(ISNUMBER(H32)),"",IF($F$5="Месяц",CHOOSE(MONTH(H32),"янв","фев","мар","апр","май","июн","июл","авг","сен","окт","ноя","дек")&" "&YEAR(H32),DAY(H32)&" "&CHOOSE(MONTH(H32),"янв","фев","мар","апр","май","июн","июл","авг","сен","окт","ноя","дек"))) -> 5 окт | I34: =IF(NOT(ISNUMBER(I32)),"",IF($F$5="Месяц",CHOOSE(MONTH(I32),"янв","фев","мар","апр","май","июн","июл","авг","сен","окт","ноя","дек")&" "&YEAR(I32),DAY(I32)&" "&CHOOSE(MONTH(I32),"янв","фев","мар","апр","май","июн","июл","авг","сен","окт","ноя","дек"))) -> 12 окт | J34: =IF(NOT(ISNUMBER(J32)),"",IF($F$5="Месяц",CHOOSE(MONTH(J32),"янв","фев","мар","апр","май","июн","июл","авг","сен","окт","ноя","дек")&" "&YEAR(J32),DAY(J32)&" "&CHOOSE(MONTH(J32),"янв","фев","мар","апр","май","июн","июл","авг","сен","окт","ноя","дек"))) -> 19 окт | ... N34: =IF(NOT(ISNUMBER(N32)),"",IF($F$5="Месяц",CHOOSE(MONTH(N32),"янв","фев","мар","апр","май","июн","июл","авг","сен","окт","ноя","дек")&" "&YEAR(N32),DAY(N32)&" "&CHOOSE(MONTH(N32),"янв","фев","мар","апр","май","июн","июл","авг","сен","окт","ноя","дек"))) -> 16 ноя
B35: Остаток на начало | C35: =IF($L$8<>"OK","",$F$6+SUMIFS(Оплаты!$D$12:$D$511,Оплаты!$C$12:$C$511,"Приход",Оплаты!$B$12:$B$511,">="&($C$6),Оплаты!$B$12:$B$511,"<="&(MIN(C32-1,$L$5)),Оплаты!$I$12:$I$511,"OK")-SUMIFS(Оплаты!$D$12:$D$511,Оплаты!$C$12:$C$511,"Расход",Оплаты!$B$12:$B$511,">="&($C$6),Оплаты!$B$12:$B$511,"<="&(MIN(C32-1,$L$5)),Оплаты!$I$12:$I$511,"OK")+IF(C32-1>$L$5,$I$13-$L$13+SUMIFS(Планы!$O$12:$O$111,Планы!$D$12:$D$111,"Приход")-SUMIFS(Планы!$N$12:$N$111,Планы!$D$12:$D$111,"Приход")-SUMIFS(Оплаты!$L$12:$L$511,Оплаты!$C$12:$C$511,"Приход",Оплаты!$F$12:$F$511,">="&($L$5+1),Оплаты!$F$12:$F$511,"<="&(C32-1))-SUMIFS(Планы!$O$12:$O$111,Планы!$D$12:$D$111,"Расход")+SUMIFS(Планы!$N$12:$N$111,Планы!$D$12:$D$111,"Расход")+SUMIFS(Оплаты!$L$12:$L$511,Оплаты!$C$12:$C$511,"Расход",Оплаты!$F$12:$F$511,">="&($L$5+1),Оплаты!$F$12:$F$511,"<="&(C32-1)),0)) -> 250000 | D35: =IF($L$8<>"OK","",C44) -> 440000 | E35: =IF($L$8<>"OK","",D44) -> 280000 | F35: =IF($L$8<>"OK","",E44) -> 440000 | G35: =IF($L$8<>"OK","",F44) -> 360000 | H35: =IF($L$8<>"OK","",G44) -> 310000 | I35: =IF($L$8<>"OK","",H44) -> 220000 | J35: =IF($L$8<>"OK","",I44) -> 210000 | K35: =IF($L$8<>"OK","",J44) -> 210000 | ... N35: =IF($L$8<>"OK","",M44) -> 60000
B36: План: поступления | C36: =IF($L$8<>"OK","",SUMIFS(Планы!$P$12:$P$111,Планы!$D$12:$D$111,"Приход")-SUMIFS(Планы!$O$12:$O$111,Планы!$D$12:$D$111,"Приход")) -> 260000 | D36: =IF($L$8<>"OK","",SUMIFS(Планы!$Q$12:$Q$111,Планы!$D$12:$D$111,"Приход")-SUMIFS(Планы!$P$12:$P$111,Планы!$D$12:$D$111,"Приход")) -> 0 | E36: =IF($L$8<>"OK","",SUMIFS(Планы!$R$12:$R$111,Планы!$D$12:$D$111,"Приход")-SUMIFS(Планы!$Q$12:$Q$111,Планы!$D$12:$D$111,"Приход")) -> 150000 | F36: =IF($L$8<>"OK","",SUMIFS(Планы!$S$12:$S$111,Планы!$D$12:$D$111,"Приход")-SUMIFS(Планы!$R$12:$R$111,Планы!$D$12:$D$111,"Приход")) -> 0 | G36: =IF($L$8<>"OK","",SUMIFS(Планы!$T$12:$T$111,Планы!$D$12:$D$111,"Приход")-SUMIFS(Планы!$S$12:$S$111,Планы!$D$12:$D$111,"Приход")) -> 0 | H36: =IF($L$8<>"OK","",SUMIFS(Планы!$U$12:$U$111,Планы!$D$12:$D$111,"Приход")-SUMIFS(Планы!$T$12:$T$111,Планы!$D$12:$D$111,"Приход")) -> 0 | I36: =IF($L$8<>"OK","",SUMIFS(Планы!$V$12:$V$111,Планы!$D$12:$D$111,"Приход")-SUMIFS(Планы!$U$12:$U$111,Планы!$D$12:$D$111,"Приход")) -> 0 | J36: =IF($L$8<>"OK","",SUMIFS(Планы!$W$12:$W$111,Планы!$D$12:$D$111,"Приход")-SUMIFS(Планы!$V$12:$V$111,Планы!$D$12:$D$111,"Приход")) -> 0 | K36: =IF($L$8<>"OK","",SUMIFS(Планы!$X$12:$X$111,Планы!$D$12:$D$111,"Приход")-SUMIFS(Планы!$W$12:$W$111,Планы!$D$12:$D$111,"Приход")) -> 0 | L36: =IF($L$8<>"OK","",SUMIFS(Планы!$Y$12:$Y$111,Планы!$D$12:$D$111,"Приход")-SUMIFS(Планы!$X$12:$X$111,Планы!$D$12:$D$111,"Приход")) -> 0 | M36: =IF($L$8<>"OK","",SUMIFS(Планы!$Z$12:$Z$111,Планы!$D$12:$D$111,"Приход")-SUMIFS(Планы!$Y$12:$Y$111,Планы!$D$12:$D$111,"Приход")) -> 0 | N36: =IF($L$8<>"OK","",SUMIFS(Планы!$AA$12:$AA$111,Планы!$D$12:$D$111,"Приход")-SUMIFS(Планы!$Z$12:$Z$111,Планы!$D$12:$D$111,"Приход")) -> 0
B37: План: выплаты | C37: =IF($L$8<>"OK","",SUMIFS(Планы!$P$12:$P$111,Планы!$D$12:$D$111,"Расход")-SUMIFS(Планы!$O$12:$O$111,Планы!$D$12:$D$111,"Расход")) -> 50000 | D37: =IF($L$8<>"OK","",SUMIFS(Планы!$Q$12:$Q$111,Планы!$D$12:$D$111,"Расход")-SUMIFS(Планы!$P$12:$P$111,Планы!$D$12:$D$111,"Расход")) -> 170000 | E37: =IF($L$8<>"OK","",SUMIFS(Планы!$R$12:$R$111,Планы!$D$12:$D$111,"Расход")-SUMIFS(Планы!$Q$12:$Q$111,Планы!$D$12:$D$111,"Расход")) -> 0 | F37: =IF($L$8<>"OK","",SUMIFS(Планы!$S$12:$S$111,Планы!$D$12:$D$111,"Расход")-SUMIFS(Планы!$R$12:$R$111,Планы!$D$12:$D$111,"Расход")) -> 80000 | G37: =IF($L$8<>"OK","",SUMIFS(Планы!$T$12:$T$111,Планы!$D$12:$D$111,"Расход")-SUMIFS(Планы!$S$12:$S$111,Планы!$D$12:$D$111,"Расход")) -> 50000 | H37: =IF($L$8<>"OK","",SUMIFS(Планы!$U$12:$U$111,Планы!$D$12:$D$111,"Расход")-SUMIFS(Планы!$T$12:$T$111,Планы!$D$12:$D$111,"Расход")) -> 90000 | I37: =IF($L$8<>"OK","",SUMIFS(Планы!$V$12:$V$111,Планы!$D$12:$D$111,"Расход")-SUMIFS(Планы!$U$12:$U$111,Планы!$D$12:$D$111,"Расход")) -> 10000 | J37: =IF($L$8<>"OK","",SUMIFS(Планы!$W$12:$W$111,Планы!$D$12:$D$111,"Расход")-SUMIFS(Планы!$V$12:$V$111,Планы!$D$12:$D$111,"Расход")) -> 0 | K37: =IF($L$8<>"OK","",SUMIFS(Планы!$X$12:$X$111,Планы!$D$12:$D$111,"Расход")-SUMIFS(Планы!$W$12:$W$111,Планы!$D$12:$D$111,"Расход")) -> 0 | L37: =IF($L$8<>"OK","",SUMIFS(Планы!$Y$12:$Y$111,Планы!$D$12:$D$111,"Расход")-SUMIFS(Планы!$X$12:$X$111,Планы!$D$12:$D$111,"Расход")) -> 50000 | M37: =IF($L$8<>"OK","",SUMIFS(Планы!$Z$12:$Z$111,Планы!$D$12:$D$111,"Расход")-SUMIFS(Планы!$Y$12:$Y$111,Планы!$D$12:$D$111,"Расход")) -> 100000 | N37: =IF($L$8<>"OK","",SUMIFS(Планы!$AA$12:$AA$111,Планы!$D$12:$D$111,"Расход")-SUMIFS(Планы!$Z$12:$Z$111,Планы!$D$12:$D$111,"Расход")) -> 0
B38: План: чистый поток | C38: =IF($L$8<>"OK","",C36-C37) -> 210000 | D38: =IF($L$8<>"OK","",D36-D37) -> -170000 | E38: =IF($L$8<>"OK","",E36-E37) -> 150000 | F38: =IF($L$8<>"OK","",F36-F37) -> -80000 | G38: =IF($L$8<>"OK","",G36-G37) -> -50000 | H38: =IF($L$8<>"OK","",H36-H37) -> -90000 | I38: =IF($L$8<>"OK","",I36-I37) -> -10000 | J38: =IF($L$8<>"OK","",J36-J37) -> 0 | ... N38: =IF($L$8<>"OK","",N36-N37) -> 0
B39: Факт: поступления | C39: =IF(OR($L$8<>"OK",C$32>$L$5),"",SUMIFS(Оплаты!$D$12:$D$511,Оплаты!$C$12:$C$511,"Приход",Оплаты!$B$12:$B$511,">="&(C$32),Оплаты!$B$12:$B$511,"<="&(MIN(C$33,$L$5)),Оплаты!$I$12:$I$511,"OK")) -> 240000 | D39: =IF(OR($L$8<>"OK",D$32>$L$5),"",SUMIFS(Оплаты!$D$12:$D$511,Оплаты!$C$12:$C$511,"Приход",Оплаты!$B$12:$B$511,">="&(D$32),Оплаты!$B$12:$B$511,"<="&(MIN(D$33,$L$5)),Оплаты!$I$12:$I$511,"OK")) -> 0 | E39: =IF(OR($L$8<>"OK",E$32>$L$5),"",SUMIFS(Оплаты!$D$12:$D$511,Оплаты!$C$12:$C$511,"Приход",Оплаты!$B$12:$B$511,">="&(E$32),Оплаты!$B$12:$B$511,"<="&(MIN(E$33,$L$5)),Оплаты!$I$12:$I$511,"OK")) -> 0 | F39: =IF(OR($L$8<>"OK",F$32>$L$5),"",SUMIFS(Оплаты!$D$12:$D$511,Оплаты!$C$12:$C$511,"Приход",Оплаты!$B$12:$B$511,">="&(F$32),Оплаты!$B$12:$B$511,"<="&(MIN(F$33,$L$5)),Оплаты!$I$12:$I$511,"OK")) | G39: =IF(OR($L$8<>"OK",G$32>$L$5),"",SUMIFS(Оплаты!$D$12:$D$511,Оплаты!$C$12:$C$511,"Приход",Оплаты!$B$12:$B$511,">="&(G$32),Оплаты!$B$12:$B$511,"<="&(MIN(G$33,$L$5)),Оплаты!$I$12:$I$511,"OK")) | H39: =IF(OR($L$8<>"OK",H$32>$L$5),"",SUMIFS(Оплаты!$D$12:$D$511,Оплаты!$C$12:$C$511,"Приход",Оплаты!$B$12:$B$511,">="&(H$32),Оплаты!$B$12:$B$511,"<="&(MIN(H$33,$L$5)),Оплаты!$I$12:$I$511,"OK")) | I39: =IF(OR($L$8<>"OK",I$32>$L$5),"",SUMIFS(Оплаты!$D$12:$D$511,Оплаты!$C$12:$C$511,"Приход",Оплаты!$B$12:$B$511,">="&(I$32),Оплаты!$B$12:$B$511,"<="&(MIN(I$33,$L$5)),Оплаты!$I$12:$I$511,"OK")) | J39: =IF(OR($L$8<>"OK",J$32>$L$5),"",SUMIFS(Оплаты!$D$12:$D$511,Оплаты!$C$12:$C$511,"Приход",Оплаты!$B$12:$B$511,">="&(J$32),Оплаты!$B$12:$B$511,"<="&(MIN(J$33,$L$5)),Оплаты!$I$12:$I$511,"OK")) | ... N39: =IF(OR($L$8<>"OK",N$32>$L$5),"",SUMIFS(Оплаты!$D$12:$D$511,Оплаты!$C$12:$C$511,"Приход",Оплаты!$B$12:$B$511,">="&(N$32),Оплаты!$B$12:$B$511,"<="&(MIN(N$33,$L$5)),Оплаты!$I$12:$I$511,"OK"))
B40: Факт: выплаты | C40: =IF(OR($L$8<>"OK",C$32>$L$5),"",SUMIFS(Оплаты!$D$12:$D$511,Оплаты!$C$12:$C$511,"Расход",Оплаты!$B$12:$B$511,">="&(C$32),Оплаты!$B$12:$B$511,"<="&(MIN(C$33,$L$5)),Оплаты!$I$12:$I$511,"OK")) -> 50000 | D40: =IF(OR($L$8<>"OK",D$32>$L$5),"",SUMIFS(Оплаты!$D$12:$D$511,Оплаты!$C$12:$C$511,"Расход",Оплаты!$B$12:$B$511,">="&(D$32),Оплаты!$B$12:$B$511,"<="&(MIN(D$33,$L$5)),Оплаты!$I$12:$I$511,"OK")) -> 160000 | E40: =IF(OR($L$8<>"OK",E$32>$L$5),"",SUMIFS(Оплаты!$D$12:$D$511,Оплаты!$C$12:$C$511,"Расход",Оплаты!$B$12:$B$511,">="&(E$32),Оплаты!$B$12:$B$511,"<="&(MIN(E$33,$L$5)),Оплаты!$I$12:$I$511,"OK")) -> 0 | F40: =IF(OR($L$8<>"OK",F$32>$L$5),"",SUMIFS(Оплаты!$D$12:$D$511,Оплаты!$C$12:$C$511,"Расход",Оплаты!$B$12:$B$511,">="&(F$32),Оплаты!$B$12:$B$511,"<="&(MIN(F$33,$L$5)),Оплаты!$I$12:$I$511,"OK")) | G40: =IF(OR($L$8<>"OK",G$32>$L$5),"",SUMIFS(Оплаты!$D$12:$D$511,Оплаты!$C$12:$C$511,"Расход",Оплаты!$B$12:$B$511,">="&(G$32),Оплаты!$B$12:$B$511,"<="&(MIN(G$33,$L$5)),Оплаты!$I$12:$I$511,"OK")) | H40: =IF(OR($L$8<>"OK",H$32>$L$5),"",SUMIFS(Оплаты!$D$12:$D$511,Оплаты!$C$12:$C$511,"Расход",Оплаты!$B$12:$B$511,">="&(H$32),Оплаты!$B$12:$B$511,"<="&(MIN(H$33,$L$5)),Оплаты!$I$12:$I$511,"OK")) | I40: =IF(OR($L$8<>"OK",I$32>$L$5),"",SUMIFS(Оплаты!$D$12:$D$511,Оплаты!$C$12:$C$511,"Расход",Оплаты!$B$12:$B$511,">="&(I$32),Оплаты!$B$12:$B$511,"<="&(MIN(I$33,$L$5)),Оплаты!$I$12:$I$511,"OK")) | J40: =IF(OR($L$8<>"OK",J$32>$L$5),"",SUMIFS(Оплаты!$D$12:$D$511,Оплаты!$C$12:$C$511,"Расход",Оплаты!$B$12:$B$511,">="&(J$32),Оплаты!$B$12:$B$511,"<="&(MIN(J$33,$L$5)),Оплаты!$I$12:$I$511,"OK")) | ... N40: =IF(OR($L$8<>"OK",N$32>$L$5),"",SUMIFS(Оплаты!$D$12:$D$511,Оплаты!$C$12:$C$511,"Расход",Оплаты!$B$12:$B$511,">="&(N$32),Оплаты!$B$12:$B$511,"<="&(MIN(N$33,$L$5)),Оплаты!$I$12:$I$511,"OK"))
B41: Ожидаем: поступления | C41: =IF($L$8<>"OK","",IF(C$33<=$L$5,0,SUMIFS(Планы!$P$12:$P$111,Планы!$D$12:$D$111,"Приход")-IF(C$32>$L$5,SUMIFS(Планы!$O$12:$O$111,Планы!$D$12:$D$111,"Приход"),SUMIFS(Планы!$N$12:$N$111,Планы!$D$12:$D$111,"Приход"))-SUMIFS(Оплаты!$L$12:$L$511,Оплаты!$C$12:$C$511,"Приход",Оплаты!$F$12:$F$511,">="&(MAX(C$32,$L$5+1)),Оплаты!$F$12:$F$511,"<="&(C$33))+IF(AND($L$5+1>=C$32,$L$5+1<=C$33),$I$13,0))) -> 0 | D41: =IF($L$8<>"OK","",IF(D$33<=$L$5,0,SUMIFS(Планы!$Q$12:$Q$111,Планы!$D$12:$D$111,"Приход")-IF(D$32>$L$5,SUMIFS(Планы!$P$12:$P$111,Планы!$D$12:$D$111,"Приход"),SUMIFS(Планы!$N$12:$N$111,Планы!$D$12:$D$111,"Приход"))-SUMIFS(Оплаты!$L$12:$L$511,Оплаты!$C$12:$C$511,"Приход",Оплаты!$F$12:$F$511,">="&(MAX(D$32,$L$5+1)),Оплаты!$F$12:$F$511,"<="&(D$33))+IF(AND($L$5+1>=D$32,$L$5+1<=D$33),$I$13,0))) -> 0 | E41: =IF($L$8<>"OK","",IF(E$33<=$L$5,0,SUMIFS(Планы!$R$12:$R$111,Планы!$D$12:$D$111,"Приход")-IF(E$32>$L$5,SUMIFS(Планы!$Q$12:$Q$111,Планы!$D$12:$D$111,"Приход"),SUMIFS(Планы!$N$12:$N$111,Планы!$D$12:$D$111,"Приход"))-SUMIFS(Оплаты!$L$12:$L$511,Оплаты!$C$12:$C$511,"Приход",Оплаты!$F$12:$F$511,">="&(MAX(E$32,$L$5+1)),Оплаты!$F$12:$F$511,"<="&(E$33))+IF(AND($L$5+1>=E$32,$L$5+1<=E$33),$I$13,0))) -> 170000 | F41: =IF($L$8<>"OK","",IF(F$33<=$L$5,0,SUMIFS(Планы!$S$12:$S$111,Планы!$D$12:$D$111,"Приход")-IF(F$32>$L$5,SUMIFS(Планы!$R$12:$R$111,Планы!$D$12:$D$111,"Приход"),SUMIFS(Планы!$N$12:$N$111,Планы!$D$12:$D$111,"Приход"))-SUMIFS(Оплаты!$L$12:$L$511,Оплаты!$C$12:$C$511,"Приход",Оплаты!$F$12:$F$511,">="&(MAX(F$32,$L$5+1)),Оплаты!$F$12:$F$511,"<="&(F$33))+IF(AND($L$5+1>=F$32,$L$5+1<=F$33),$I$13,0))) -> 0 | G41: =IF($L$8<>"OK","",IF(G$33<=$L$5,0,SUMIFS(Планы!$T$12:$T$111,Планы!$D$12:$D$111,"Приход")-IF(G$32>$L$5,SUMIFS(Планы!$S$12:$S$111,Планы!$D$12:$D$111,"Приход"),SUMIFS(Планы!$N$12:$N$111,Планы!$D$12:$D$111,"Приход"))-SUMIFS(Оплаты!$L$12:$L$511,Оплаты!$C$12:$C$511,"Приход",Оплаты!$F$12:$F$511,">="&(MAX(G$32,$L$5+1)),Оплаты!$F$12:$F$511,"<="&(G$33))+IF(AND($L$5+1>=G$32,$L$5+1<=G$33),$I$13,0))) -> 0 | H41: =IF($L$8<>"OK","",IF(H$33<=$L$5,0,SUMIFS(Планы!$U$12:$U$111,Планы!$D$12:$D$111,"Приход")-IF(H$32>$L$5,SUMIFS(Планы!$T$12:$T$111,Планы!$D$12:$D$111,"Приход"),SUMIFS(Планы!$N$12:$N$111,Планы!$D$12:$D$111,"Приход"))-SUMIFS(Оплаты!$L$12:$L$511,Оплаты!$C$12:$C$511,"Приход",Оплаты!$F$12:$F$511,">="&(MAX(H$32,$L$5+1)),Оплаты!$F$12:$F$511,"<="&(H$33))+IF(AND($L$5+1>=H$32,$L$5+1<=H$33),$I$13,0))) -> 0 | I41: =IF($L$8<>"OK","",IF(I$33<=$L$5,0,SUMIFS(Планы!$V$12:$V$111,Планы!$D$12:$D$111,"Приход")-IF(I$32>$L$5,SUMIFS(Планы!$U$12:$U$111,Планы!$D$12:$D$111,"Приход"),SUMIFS(Планы!$N$12:$N$111,Планы!$D$12:$D$111,"Приход"))-SUMIFS(Оплаты!$L$12:$L$511,Оплаты!$C$12:$C$511,"Приход",Оплаты!$F$12:$F$511,">="&(MAX(I$32,$L$5+1)),Оплаты!$F$12:$F$511,"<="&(I$33))+IF(AND($L$5+1>=I$32,$L$5+1<=I$33),$I$13,0))) -> 0 | J41: =IF($L$8<>"OK","",IF(J$33<=$L$5,0,SUMIFS(Планы!$W$12:$W$111,Планы!$D$12:$D$111,"Приход")-IF(J$32>$L$5,SUMIFS(Планы!$V$12:$V$111,Планы!$D$12:$D$111,"Приход"),SUMIFS(Планы!$N$12:$N$111,Планы!$D$12:$D$111,"Приход"))-SUMIFS(Оплаты!$L$12:$L$511,Оплаты!$C$12:$C$511,"Приход",Оплаты!$F$12:$F$511,">="&(MAX(J$32,$L$5+1)),Оплаты!$F$12:$F$511,"<="&(J$33))+IF(AND($L$5+1>=J$32,$L$5+1<=J$33),$I$13,0))) -> 0 | K41: =IF($L$8<>"OK","",IF(K$33<=$L$5,0,SUMIFS(Планы!$X$12:$X$111,Планы!$D$12:$D$111,"Приход")-IF(K$32>$L$5,SUMIFS(Планы!$W$12:$W$111,Планы!$D$12:$D$111,"Приход"),SUMIFS(Планы!$N$12:$N$111,Планы!$D$12:$D$111,"Приход"))-SUMIFS(Оплаты!$L$12:$L$511,Оплаты!$C$12:$C$511,"Приход",Оплаты!$F$12:$F$511,">="&(MAX(K$32,$L$5+1)),Оплаты!$F$12:$F$511,"<="&(K$33))+IF(AND($L$5+1>=K$32,$L$5+1<=K$33),$I$13,0))) -> 0 | L41: =IF($L$8<>"OK","",IF(L$33<=$L$5,0,SUMIFS(Планы!$Y$12:$Y$111,Планы!$D$12:$D$111,"Приход")-IF(L$32>$L$5,SUMIFS(Планы!$X$12:$X$111,Планы!$D$12:$D$111,"Приход"),SUMIFS(Планы!$N$12:$N$111,Планы!$D$12:$D$111,"Приход"))-SUMIFS(Оплаты!$L$12:$L$511,Оплаты!$C$12:$C$511,"Приход",Оплаты!$F$12:$F$511,">="&(MAX(L$32,$L$5+1)),Оплаты!$F$12:$F$511,"<="&(L$33))+IF(AND($L$5+1>=L$32,$L$5+1<=L$33),$I$13,0))) -> 0 | M41: =IF($L$8<>"OK","",IF(M$33<=$L$5,0,SUMIFS(Планы!$Z$12:$Z$111,Планы!$D$12:$D$111,"Приход")-IF(M$32>$L$5,SUMIFS(Планы!$Y$12:$Y$111,Планы!$D$12:$D$111,"Приход"),SUMIFS(Планы!$N$12:$N$111,Планы!$D$12:$D$111,"Приход"))-SUMIFS(Оплаты!$L$12:$L$511,Оплаты!$C$12:$C$511,"Приход",Оплаты!$F$12:$F$511,">="&(MAX(M$32,$L$5+1)),Оплаты!$F$12:$F$511,"<="&(M$33))+IF(AND($L$5+1>=M$32,$L$5+1<=M$33),$I$13,0))) -> 0 | N41: =IF($L$8<>"OK","",IF(N$33<=$L$5,0,SUMIFS(Планы!$AA$12:$AA$111,Планы!$D$12:$D$111,"Приход")-IF(N$32>$L$5,SUMIFS(Планы!$Z$12:$Z$111,Планы!$D$12:$D$111,"Приход"),SUMIFS(Планы!$N$12:$N$111,Планы!$D$12:$D$111,"Приход"))-SUMIFS(Оплаты!$L$12:$L$511,Оплаты!$C$12:$C$511,"Приход",Оплаты!$F$12:$F$511,">="&(MAX(N$32,$L$5+1)),Оплаты!$F$12:$F$511,"<="&(N$33))+IF(AND($L$5+1>=N$32,$L$5+1<=N$33),$I$13,0))) -> 0
B42: Ожидаем: выплаты | C42: =IF($L$8<>"OK","",IF(C$33<=$L$5,0,SUMIFS(Планы!$P$12:$P$111,Планы!$D$12:$D$111,"Расход")-IF(C$32>$L$5,SUMIFS(Планы!$O$12:$O$111,Планы!$D$12:$D$111,"Расход"),SUMIFS(Планы!$N$12:$N$111,Планы!$D$12:$D$111,"Расход"))-SUMIFS(Оплаты!$L$12:$L$511,Оплаты!$C$12:$C$511,"Расход",Оплаты!$F$12:$F$511,">="&(MAX(C$32,$L$5+1)),Оплаты!$F$12:$F$511,"<="&(C$33))+IF(AND($L$5+1>=C$32,$L$5+1<=C$33),$L$13,0))) -> 0 | D42: =IF($L$8<>"OK","",IF(D$33<=$L$5,0,SUMIFS(Планы!$Q$12:$Q$111,Планы!$D$12:$D$111,"Расход")-IF(D$32>$L$5,SUMIFS(Планы!$P$12:$P$111,Планы!$D$12:$D$111,"Расход"),SUMIFS(Планы!$N$12:$N$111,Планы!$D$12:$D$111,"Расход"))-SUMIFS(Оплаты!$L$12:$L$511,Оплаты!$C$12:$C$511,"Расход",Оплаты!$F$12:$F$511,">="&(MAX(D$32,$L$5+1)),Оплаты!$F$12:$F$511,"<="&(D$33))+IF(AND($L$5+1>=D$32,$L$5+1<=D$33),$L$13,0))) -> 0 | E42: =IF($L$8<>"OK","",IF(E$33<=$L$5,0,SUMIFS(Планы!$R$12:$R$111,Планы!$D$12:$D$111,"Расход")-IF(E$32>$L$5,SUMIFS(Планы!$Q$12:$Q$111,Планы!$D$12:$D$111,"Расход"),SUMIFS(Планы!$N$12:$N$111,Планы!$D$12:$D$111,"Расход"))-SUMIFS(Оплаты!$L$12:$L$511,Оплаты!$C$12:$C$511,"Расход",Оплаты!$F$12:$F$511,">="&(MAX(E$32,$L$5+1)),Оплаты!$F$12:$F$511,"<="&(E$33))+IF(AND($L$5+1>=E$32,$L$5+1<=E$33),$L$13,0))) -> 10000 | F42: =IF($L$8<>"OK","",IF(F$33<=$L$5,0,SUMIFS(Планы!$S$12:$S$111,Планы!$D$12:$D$111,"Расход")-IF(F$32>$L$5,SUMIFS(Планы!$R$12:$R$111,Планы!$D$12:$D$111,"Расход"),SUMIFS(Планы!$N$12:$N$111,Планы!$D$12:$D$111,"Расход"))-SUMIFS(Оплаты!$L$12:$L$511,Оплаты!$C$12:$C$511,"Расход",Оплаты!$F$12:$F$511,">="&(MAX(F$32,$L$5+1)),Оплаты!$F$12:$F$511,"<="&(F$33))+IF(AND($L$5+1>=F$32,$L$5+1<=F$33),$L$13,0))) -> 80000 | G42: =IF($L$8<>"OK","",IF(G$33<=$L$5,0,SUMIFS(Планы!$T$12:$T$111,Планы!$D$12:$D$111,"Расход")-IF(G$32>$L$5,SUMIFS(Планы!$S$12:$S$111,Планы!$D$12:$D$111,"Расход"),SUMIFS(Планы!$N$12:$N$111,Планы!$D$12:$D$111,"Расход"))-SUMIFS(Оплаты!$L$12:$L$511,Оплаты!$C$12:$C$511,"Расход",Оплаты!$F$12:$F$511,">="&(MAX(G$32,$L$5+1)),Оплаты!$F$12:$F$511,"<="&(G$33))+IF(AND($L$5+1>=G$32,$L$5+1<=G$33),$L$13,0))) -> 50000 | H42: =IF($L$8<>"OK","",IF(H$33<=$L$5,0,SUMIFS(Планы!$U$12:$U$111,Планы!$D$12:$D$111,"Расход")-IF(H$32>$L$5,SUMIFS(Планы!$T$12:$T$111,Планы!$D$12:$D$111,"Расход"),SUMIFS(Планы!$N$12:$N$111,Планы!$D$12:$D$111,"Расход"))-SUMIFS(Оплаты!$L$12:$L$511,Оплаты!$C$12:$C$511,"Расход",Оплаты!$F$12:$F$511,">="&(MAX(H$32,$L$5+1)),Оплаты!$F$12:$F$511,"<="&(H$33))+IF(AND($L$5+1>=H$32,$L$5+1<=H$33),$L$13,0))) -> 90000 | I42: =IF($L$8<>"OK","",IF(I$33<=$L$5,0,SUMIFS(Планы!$V$12:$V$111,Планы!$D$12:$D$111,"Расход")-IF(I$32>$L$5,SUMIFS(Планы!$U$12:$U$111,Планы!$D$12:$D$111,"Расход"),SUMIFS(Планы!$N$12:$N$111,Планы!$D$12:$D$111,"Расход"))-SUMIFS(Оплаты!$L$12:$L$511,Оплаты!$C$12:$C$511,"Расход",Оплаты!$F$12:$F$511,">="&(MAX(I$32,$L$5+1)),Оплаты!$F$12:$F$511,"<="&(I$33))+IF(AND($L$5+1>=I$32,$L$5+1<=I$33),$L$13,0))) -> 10000 | J42: =IF($L$8<>"OK","",IF(J$33<=$L$5,0,SUMIFS(Планы!$W$12:$W$111,Планы!$D$12:$D$111,"Расход")-IF(J$32>$L$5,SUMIFS(Планы!$V$12:$V$111,Планы!$D$12:$D$111,"Расход"),SUMIFS(Планы!$N$12:$N$111,Планы!$D$12:$D$111,"Расход"))-SUMIFS(Оплаты!$L$12:$L$511,Оплаты!$C$12:$C$511,"Расход",Оплаты!$F$12:$F$511,">="&(MAX(J$32,$L$5+1)),Оплаты!$F$12:$F$511,"<="&(J$33))+IF(AND($L$5+1>=J$32,$L$5+1<=J$33),$L$13,0))) -> 0 | K42: =IF($L$8<>"OK","",IF(K$33<=$L$5,0,SUMIFS(Планы!$X$12:$X$111,Планы!$D$12:$D$111,"Расход")-IF(K$32>$L$5,SUMIFS(Планы!$W$12:$W$111,Планы!$D$12:$D$111,"Расход"),SUMIFS(Планы!$N$12:$N$111,Планы!$D$12:$D$111,"Расход"))-SUMIFS(Оплаты!$L$12:$L$511,Оплаты!$C$12:$C$511,"Расход",Оплаты!$F$12:$F$511,">="&(MAX(K$32,$L$5+1)),Оплаты!$F$12:$F$511,"<="&(K$33))+IF(AND($L$5+1>=K$32,$L$5+1<=K$33),$L$13,0))) -> 0 | L42: =IF($L$8<>"OK","",IF(L$33<=$L$5,0,SUMIFS(Планы!$Y$12:$Y$111,Планы!$D$12:$D$111,"Расход")-IF(L$32>$L$5,SUMIFS(Планы!$X$12:$X$111,Планы!$D$12:$D$111,"Расход"),SUMIFS(Планы!$N$12:$N$111,Планы!$D$12:$D$111,"Расход"))-SUMIFS(Оплаты!$L$12:$L$511,Оплаты!$C$12:$C$511,"Расход",Оплаты!$F$12:$F$511,">="&(MAX(L$32,$L$5+1)),Оплаты!$F$12:$F$511,"<="&(L$33))+IF(AND($L$5+1>=L$32,$L$5+1<=L$33),$L$13,0))) -> 50000 | M42: =IF($L$8<>"OK","",IF(M$33<=$L$5,0,SUMIFS(Планы!$Z$12:$Z$111,Планы!$D$12:$D$111,"Расход")-IF(M$32>$L$5,SUMIFS(Планы!$Y$12:$Y$111,Планы!$D$12:$D$111,"Расход"),SUMIFS(Планы!$N$12:$N$111,Планы!$D$12:$D$111,"Расход"))-SUMIFS(Оплаты!$L$12:$L$511,Оплаты!$C$12:$C$511,"Расход",Оплаты!$F$12:$F$511,">="&(MAX(M$32,$L$5+1)),Оплаты!$F$12:$F$511,"<="&(M$33))+IF(AND($L$5+1>=M$32,$L$5+1<=M$33),$L$13,0))) -> 100000 | N42: =IF($L$8<>"OK","",IF(N$33<=$L$5,0,SUMIFS(Планы!$AA$12:$AA$111,Планы!$D$12:$D$111,"Расход")-IF(N$32>$L$5,SUMIFS(Планы!$Z$12:$Z$111,Планы!$D$12:$D$111,"Расход"),SUMIFS(Планы!$N$12:$N$111,Планы!$D$12:$D$111,"Расход"))-SUMIFS(Оплаты!$L$12:$L$511,Оплаты!$C$12:$C$511,"Расход",Оплаты!$F$12:$F$511,">="&(MAX(N$32,$L$5+1)),Оплаты!$F$12:$F$511,"<="&(N$33))+IF(AND($L$5+1>=N$32,$L$5+1<=N$33),$L$13,0))) -> 0
B43: Факт + ожидания: поток | C43: =IF($L$8<>"OK","",SUM(C39,C41)-SUM(C40,C42)) -> 190000 | D43: =IF($L$8<>"OK","",SUM(D39,D41)-SUM(D40,D42)) -> -160000 | E43: =IF($L$8<>"OK","",SUM(E39,E41)-SUM(E40,E42)) -> 160000 | F43: =IF($L$8<>"OK","",SUM(F39,F41)-SUM(F40,F42)) -> -80000 | G43: =IF($L$8<>"OK","",SUM(G39,G41)-SUM(G40,G42)) -> -50000 | H43: =IF($L$8<>"OK","",SUM(H39,H41)-SUM(H40,H42)) -> -90000 | I43: =IF($L$8<>"OK","",SUM(I39,I41)-SUM(I40,I42)) -> -10000 | J43: =IF($L$8<>"OK","",SUM(J39,J41)-SUM(J40,J42)) -> 0 | ... N43: =IF($L$8<>"OK","",SUM(N39,N41)-SUM(N40,N42)) -> 0
B44: Остаток на конец | C44: =IF($L$8<>"OK","",C35+C43) -> 440000 | D44: =IF($L$8<>"OK","",D35+D43) -> 280000 | E44: =IF($L$8<>"OK","",E35+E43) -> 440000 | F44: =IF($L$8<>"OK","",F35+F43) -> 360000 | G44: =IF($L$8<>"OK","",G35+G43) -> 310000 | H44: =IF($L$8<>"OK","",H35+H43) -> 220000 | I44: =IF($L$8<>"OK","",I35+I43) -> 210000 | J44: =IF($L$8<>"OK","",J35+J43) -> 210000 | ... N44: =IF($L$8<>"OK","",N35+N43) -> 60000
B45: Нехватка до резерва | C45: =IF($L$8<>"OK","",MAX(0,$L$6-C44)) -> 0 | D45: =IF($L$8<>"OK","",MAX(0,$L$6-D44)) -> 0 | E45: =IF($L$8<>"OK","",MAX(0,$L$6-E44)) -> 0 | F45: =IF($L$8<>"OK","",MAX(0,$L$6-F44)) -> 0 | G45: =IF($L$8<>"OK","",MAX(0,$L$6-G44)) -> 0 | H45: =IF($L$8<>"OK","",MAX(0,$L$6-H44)) -> 0 | I45: =IF($L$8<>"OK","",MAX(0,$L$6-I44)) -> 0 | J45: =IF($L$8<>"OK","",MAX(0,$L$6-J44)) -> 0 | ... N45: =IF($L$8<>"OK","",MAX(0,$L$6-N44)) -> 0
B47: Остаток: чистый план | C47: =IF($L$8<>"OK","",$F$6+SUMIFS(Планы!$P$12:$P$111,Планы!$D$12:$D$111,"Приход")-SUMIFS(Планы!$P$12:$P$111,Планы!$D$12:$D$111,"Расход")) -> 460000 | D47: =IF($L$8<>"OK","",$F$6+SUMIFS(Планы!$Q$12:$Q$111,Планы!$D$12:$D$111,"Приход")-SUMIFS(Планы!$Q$12:$Q$111,Планы!$D$12:$D$111,"Расход")) -> 290000 | E47: =IF($L$8<>"OK","",$F$6+SUMIFS(Планы!$R$12:$R$111,Планы!$D$12:$D$111,"Приход")-SUMIFS(Планы!$R$12:$R$111,Планы!$D$12:$D$111,"Расход")) -> 440000 | F47: =IF($L$8<>"OK","",$F$6+SUMIFS(Планы!$S$12:$S$111,Планы!$D$12:$D$111,"Приход")-SUMIFS(Планы!$S$12:$S$111,Планы!$D$12:$D$111,"Расход")) -> 360000 | G47: =IF($L$8<>"OK","",$F$6+SUMIFS(Планы!$T$12:$T$111,Планы!$D$12:$D$111,"Приход")-SUMIFS(Планы!$T$12:$T$111,Планы!$D$12:$D$111,"Расход")) -> 310000 | H47: =IF($L$8<>"OK","",$F$6+SUMIFS(Планы!$U$12:$U$111,Планы!$D$12:$D$111,"Приход")-SUMIFS(Планы!$U$12:$U$111,Планы!$D$12:$D$111,"Расход")) -> 220000 | I47: =IF($L$8<>"OK","",$F$6+SUMIFS(Планы!$V$12:$V$111,Планы!$D$12:$D$111,"Приход")-SUMIFS(Планы!$V$12:$V$111,Планы!$D$12:$D$111,"Расход")) -> 210000 | J47: =IF($L$8<>"OK","",$F$6+SUMIFS(Планы!$W$12:$W$111,Планы!$D$12:$D$111,"Приход")-SUMIFS(Планы!$W$12:$W$111,Планы!$D$12:$D$111,"Расход")) -> 210000 | K47: =IF($L$8<>"OK","",$F$6+SUMIFS(Планы!$X$12:$X$111,Планы!$D$12:$D$111,"Приход")-SUMIFS(Планы!$X$12:$X$111,Планы!$D$12:$D$111,"Расход")) -> 210000 | L47: =IF($L$8<>"OK","",$F$6+SUMIFS(Планы!$Y$12:$Y$111,Планы!$D$12:$D$111,"Приход")-SUMIFS(Планы!$Y$12:$Y$111,Планы!$D$12:$D$111,"Расход")) -> 160000 | M47: =IF($L$8<>"OK","",$F$6+SUMIFS(Планы!$Z$12:$Z$111,Планы!$D$12:$D$111,"Приход")-SUMIFS(Планы!$Z$12:$Z$111,Планы!$D$12:$D$111,"Расход")) -> 60000 | N47: =IF($L$8<>"OK","",$F$6+SUMIFS(Планы!$AA$12:$AA$111,Планы!$D$12:$D$111,"Приход")-SUMIFS(Планы!$AA$12:$AA$111,Планы!$D$12:$D$111,"Расход")) -> 60000
B48: Остаток: факт / срез | C48: =IF(OR($L$8<>"OK",C$32>$L$5),"",$F$6+SUMIFS(Оплаты!$D$12:$D$511,Оплаты!$C$12:$C$511,"Приход",Оплаты!$B$12:$B$511,">="&($C$6),Оплаты!$B$12:$B$511,"<="&(MIN(C$33,$L$5)),Оплаты!$I$12:$I$511,"OK")-SUMIFS(Оплаты!$D$12:$D$511,Оплаты!$C$12:$C$511,"Расход",Оплаты!$B$12:$B$511,">="&($C$6),Оплаты!$B$12:$B$511,"<="&(MIN(C$33,$L$5)),Оплаты!$I$12:$I$511,"OK")) -> 440000 | D48: =IF(OR($L$8<>"OK",D$32>$L$5),"",$F$6+SUMIFS(Оплаты!$D$12:$D$511,Оплаты!$C$12:$C$511,"Приход",Оплаты!$B$12:$B$511,">="&($C$6),Оплаты!$B$12:$B$511,"<="&(MIN(D$33,$L$5)),Оплаты!$I$12:$I$511,"OK")-SUMIFS(Оплаты!$D$12:$D$511,Оплаты!$C$12:$C$511,"Расход",Оплаты!$B$12:$B$511,">="&($C$6),Оплаты!$B$12:$B$511,"<="&(MIN(D$33,$L$5)),Оплаты!$I$12:$I$511,"OK")) -> 280000 | E48: =IF(OR($L$8<>"OK",E$32>$L$5),"",$F$6+SUMIFS(Оплаты!$D$12:$D$511,Оплаты!$C$12:$C$511,"Приход",Оплаты!$B$12:$B$511,">="&($C$6),Оплаты!$B$12:$B$511,"<="&(MIN(E$33,$L$5)),Оплаты!$I$12:$I$511,"OK")-SUMIFS(Оплаты!$D$12:$D$511,Оплаты!$C$12:$C$511,"Расход",Оплаты!$B$12:$B$511,">="&($C$6),Оплаты!$B$12:$B$511,"<="&(MIN(E$33,$L$5)),Оплаты!$I$12:$I$511,"OK")) -> 280000 | F48: =IF(OR($L$8<>"OK",F$32>$L$5),"",$F$6+SUMIFS(Оплаты!$D$12:$D$511,Оплаты!$C$12:$C$511,"Приход",Оплаты!$B$12:$B$511,">="&($C$6),Оплаты!$B$12:$B$511,"<="&(MIN(F$33,$L$5)),Оплаты!$I$12:$I$511,"OK")-SUMIFS(Оплаты!$D$12:$D$511,Оплаты!$C$12:$C$511,"Расход",Оплаты!$B$12:$B$511,">="&($C$6),Оплаты!$B$12:$B$511,"<="&(MIN(F$33,$L$5)),Оплаты!$I$12:$I$511,"OK")) | G48: =IF(OR($L$8<>"OK",G$32>$L$5),"",$F$6+SUMIFS(Оплаты!$D$12:$D$511,Оплаты!$C$12:$C$511,"Приход",Оплаты!$B$12:$B$511,">="&($C$6),Оплаты!$B$12:$B$511,"<="&(MIN(G$33,$L$5)),Оплаты!$I$12:$I$511,"OK")-SUMIFS(Оплаты!$D$12:$D$511,Оплаты!$C$12:$C$511,"Расход",Оплаты!$B$12:$B$511,">="&($C$6),Оплаты!$B$12:$B$511,"<="&(MIN(G$33,$L$5)),Оплаты!$I$12:$I$511,"OK")) | H48: =IF(OR($L$8<>"OK",H$32>$L$5),"",$F$6+SUMIFS(Оплаты!$D$12:$D$511,Оплаты!$C$12:$C$511,"Приход",Оплаты!$B$12:$B$511,">="&($C$6),Оплаты!$B$12:$B$511,"<="&(MIN(H$33,$L$5)),Оплаты!$I$12:$I$511,"OK")-SUMIFS(Оплаты!$D$12:$D$511,Оплаты!$C$12:$C$511,"Расход",Оплаты!$B$12:$B$511,">="&($C$6),Оплаты!$B$12:$B$511,"<="&(MIN(H$33,$L$5)),Оплаты!$I$12:$I$511,"OK")) | I48: =IF(OR($L$8<>"OK",I$32>$L$5),"",$F$6+SUMIFS(Оплаты!$D$12:$D$511,Оплаты!$C$12:$C$511,"Приход",Оплаты!$B$12:$B$511,">="&($C$6),Оплаты!$B$12:$B$511,"<="&(MIN(I$33,$L$5)),Оплаты!$I$12:$I$511,"OK")-SUMIFS(Оплаты!$D$12:$D$511,Оплаты!$C$12:$C$511,"Расход",Оплаты!$B$12:$B$511,">="&($C$6),Оплаты!$B$12:$B$511,"<="&(MIN(I$33,$L$5)),Оплаты!$I$12:$I$511,"OK")) | J48: =IF(OR($L$8<>"OK",J$32>$L$5),"",$F$6+SUMIFS(Оплаты!$D$12:$D$511,Оплаты!$C$12:$C$511,"Приход",Оплаты!$B$12:$B$511,">="&($C$6),Оплаты!$B$12:$B$511,"<="&(MIN(J$33,$L$5)),Оплаты!$I$12:$I$511,"OK")-SUMIFS(Оплаты!$D$12:$D$511,Оплаты!$C$12:$C$511,"Расход",Оплаты!$B$12:$B$511,">="&($C$6),Оплаты!$B$12:$B$511,"<="&(MIN(J$33,$L$5)),Оплаты!$I$12:$I$511,"OK")) | ... N48: =IF(OR($L$8<>"OK",N$32>$L$5),"",$F$6+SUMIFS(Оплаты!$D$12:$D$511,Оплаты!$C$12:$C$511,"Приход",Оплаты!$B$12:$B$511,">="&($C$6),Оплаты!$B$12:$B$511,"<="&(MIN(N$33,$L$5)),Оплаты!$I$12:$I$511,"OK")-SUMIFS(Оплаты!$D$12:$D$511,Оплаты!$C$12:$C$511,"Расход",Оплаты!$B$12:$B$511,">="&($C$6),Оплаты!$B$12:$B$511,"<="&(MIN(N$33,$L$5)),Оплаты!$I$12:$I$511,"OK"))
B49: Факт − план на срез | C49: =IF(OR($L$8<>"OK",C$32>$L$5),"",C48-($F$6+IF(C$33>$L$5,SUMIFS(Планы!$N$12:$N$111,Планы!$D$12:$D$111,"Приход")-SUMIFS(Планы!$N$12:$N$111,Планы!$D$12:$D$111,"Расход"),SUMIFS(Планы!$P$12:$P$111,Планы!$D$12:$D$111,"Приход")-SUMIFS(Планы!$P$12:$P$111,Планы!$D$12:$D$111,"Расход")))) -> -20000 | D49: =IF(OR($L$8<>"OK",D$32>$L$5),"",D48-($F$6+IF(D$33>$L$5,SUMIFS(Планы!$N$12:$N$111,Планы!$D$12:$D$111,"Приход")-SUMIFS(Планы!$N$12:$N$111,Планы!$D$12:$D$111,"Расход"),SUMIFS(Планы!$Q$12:$Q$111,Планы!$D$12:$D$111,"Приход")-SUMIFS(Планы!$Q$12:$Q$111,Планы!$D$12:$D$111,"Расход")))) -> -10000 | E49: =IF(OR($L$8<>"OK",E$32>$L$5),"",E48-($F$6+IF(E$33>$L$5,SUMIFS(Планы!$N$12:$N$111,Планы!$D$12:$D$111,"Приход")-SUMIFS(Планы!$N$12:$N$111,Планы!$D$12:$D$111,"Расход"),SUMIFS(Планы!$R$12:$R$111,Планы!$D$12:$D$111,"Приход")-SUMIFS(Планы!$R$12:$R$111,Планы!$D$12:$D$111,"Расход")))) -> -10000 | F49: =IF(OR($L$8<>"OK",F$32>$L$5),"",F48-($F$6+IF(F$33>$L$5,SUMIFS(Планы!$N$12:$N$111,Планы!$D$12:$D$111,"Приход")-SUMIFS(Планы!$N$12:$N$111,Планы!$D$12:$D$111,"Расход"),SUMIFS(Планы!$S$12:$S$111,Планы!$D$12:$D$111,"Приход")-SUMIFS(Планы!$S$12:$S$111,Планы!$D$12:$D$111,"Расход")))) | G49: =IF(OR($L$8<>"OK",G$32>$L$5),"",G48-($F$6+IF(G$33>$L$5,SUMIFS(Планы!$N$12:$N$111,Планы!$D$12:$D$111,"Приход")-SUMIFS(Планы!$N$12:$N$111,Планы!$D$12:$D$111,"Расход"),SUMIFS(Планы!$T$12:$T$111,Планы!$D$12:$D$111,"Приход")-SUMIFS(Планы!$T$12:$T$111,Планы!$D$12:$D$111,"Расход")))) | H49: =IF(OR($L$8<>"OK",H$32>$L$5),"",H48-($F$6+IF(H$33>$L$5,SUMIFS(Планы!$N$12:$N$111,Планы!$D$12:$D$111,"Приход")-SUMIFS(Планы!$N$12:$N$111,Планы!$D$12:$D$111,"Расход"),SUMIFS(Планы!$U$12:$U$111,Планы!$D$12:$D$111,"Приход")-SUMIFS(Планы!$U$12:$U$111,Планы!$D$12:$D$111,"Расход")))) | I49: =IF(OR($L$8<>"OK",I$32>$L$5),"",I48-($F$6+IF(I$33>$L$5,SUMIFS(Планы!$N$12:$N$111,Планы!$D$12:$D$111,"Приход")-SUMIFS(Планы!$N$12:$N$111,Планы!$D$12:$D$111,"Расход"),SUMIFS(Планы!$V$12:$V$111,Планы!$D$12:$D$111,"Приход")-SUMIFS(Планы!$V$12:$V$111,Планы!$D$12:$D$111,"Расход")))) | J49: =IF(OR($L$8<>"OK",J$32>$L$5),"",J48-($F$6+IF(J$33>$L$5,SUMIFS(Планы!$N$12:$N$111,Планы!$D$12:$D$111,"Приход")-SUMIFS(Планы!$N$12:$N$111,Планы!$D$12:$D$111,"Расход"),SUMIFS(Планы!$W$12:$W$111,Планы!$D$12:$D$111,"Приход")-SUMIFS(Планы!$W$12:$W$111,Планы!$D$12:$D$111,"Расход")))) | K49: =IF(OR($L$8<>"OK",K$32>$L$5),"",K48-($F$6+IF(K$33>$L$5,SUMIFS(Планы!$N$12:$N$111,Планы!$D$12:$D$111,"Приход")-SUMIFS(Планы!$N$12:$N$111,Планы!$D$12:$D$111,"Расход"),SUMIFS(Планы!$X$12:$X$111,Планы!$D$12:$D$111,"Приход")-SUMIFS(Планы!$X$12:$X$111,Планы!$D$12:$D$111,"Расход")))) | L49: =IF(OR($L$8<>"OK",L$32>$L$5),"",L48-($F$6+IF(L$33>$L$5,SUMIFS(Планы!$N$12:$N$111,Планы!$D$12:$D$111,"Приход")-SUMIFS(Планы!$N$12:$N$111,Планы!$D$12:$D$111,"Расход"),SUMIFS(Планы!$Y$12:$Y$111,Планы!$D$12:$D$111,"Приход")-SUMIFS(Планы!$Y$12:$Y$111,Планы!$D$12:$D$111,"Расход")))) | M49: =IF(OR($L$8<>"OK",M$32>$L$5),"",M48-($F$6+IF(M$33>$L$5,SUMIFS(Планы!$N$12:$N$111,Планы!$D$12:$D$111,"Приход")-SUMIFS(Планы!$N$12:$N$111,Планы!$D$12:$D$111,"Расход"),SUMIFS(Планы!$Z$12:$Z$111,Планы!$D$12:$D$111,"Приход")-SUMIFS(Планы!$Z$12:$Z$111,Планы!$D$12:$D$111,"Расход")))) | N49: =IF(OR($L$8<>"OK",N$32>$L$5),"",N48-($F$6+IF(N$33>$L$5,SUMIFS(Планы!$N$12:$N$111,Планы!$D$12:$D$111,"Приход")-SUMIFS(Планы!$N$12:$N$111,Планы!$D$12:$D$111,"Расход"),SUMIFS(Планы!$AA$12:$AA$111,Планы!$D$12:$D$111,"Приход")-SUMIFS(Планы!$AA$12:$AA$111,Планы!$D$12:$D$111,"Расход"))))
B51: Ожидания = неоплаченная часть планов. Просроченное на дату среза переносится ровно один раз на следующий день.
B52: Факт после среза пустой. Факт − план сравнивается только по дату среза. Минимум и нехватка показаны на границах периодов.
B53: Чтобы проверить кассовый разрыв внутри недели или месяца, выберите «День». Переводы между собственными счетами не включайте.
B55: Ввод планов | C55: =COUNTA(Планы!$A$12:$A$111)&" / 100" -> 8 / 100 | E55: Ввод оплат | F55: =COUNTA(Оплаты!$A$12:$A$511)&" / 500" -> 6 / 500 | H55: Переплата | I55: =IF($L$8<>"OK","",SUM(Оплаты!$M$12:$M$511)) -> 0
B57: Нет привязки к одному году: сдвигайте окно или задавайте новую дату. Поддерживаемые даты ввода: 2000–2199.
B58: История сохраняется в планах и оплатах. Остаток нового окна учитывает все движения с даты базы, включая невидимые периоды.

Sheet Планы
B2: Хак Фин. Планы платежей
A3: 100 планов: строки 12–111. Одно обязательство — один уникальный ID. Ежемесячные и еженедельные планы повторяются автоматически.
A5: Замените учебные значения в A12:I19. Формулы K:AA не удаляйте. Для отмены будущих повторений укажите последний срок в H.
A6: Сумма — на одно повторение. Пустой последний срок означает без окончания. Для 29–31 числа короткий месяц заканчивается последним днём.
A7: Разово: один срок. Еженедельно: каждые 7 дней. Ежемесячно: исходное число месяца. Новые строки вводите внутри предусмотренного диапазона.
A8: Расчёт справа: суммы с даты базы до указанной даты включительно. Старые повторения до базы не меняют её остаток.
A10: Занято планов | B10: =COUNTA(A12:A111) -> 8 | D10: Свободно | E10: =100-B10 -> 92
A11: ID плана | B11: Назначение | C11: Статья | D11: Направление | E11: Первый срок | F11: Регулярность | G11: Сумма за раз | H11: Последний срок | I11: Комментарий | K11: Проверка ввода | L11: Окончание | M11: До базы: повторов | N11: План до среза | O11: План до окна | P11: =Календарь!C33 -> 46271 | Q11: =Календарь!D33 -> 46278 | R11: =Календарь!E33 -> 46285 | S11: =Календарь!F33 -> 46292 | T11: =Календарь!G33 -> 46299 | U11: =Календарь!H33 -> 46306 | V11: =Календарь!I33 -> 46313 | W11: =Календарь!J33 -> 46320 | ... AA11: =Календарь!N33 -> 46348
A12: П-001 | B12: Оплата заказа А | C12: Клиенты | D12: Приход | E12: 46267 | F12: Разово | G12: 180000 | I12: Учебный пример | K12: =IF(COUNTA(A12:I12)=0,"",IF(OR(A12="",B12="",C12="",AND(D12<>"Приход",D12<>"Расход"),NOT(ISNUMBER(E12)),NOT(ISNUMBER(G12)),AND(F12<>"Разово",F12<>"Еженедельно",F12<>"Ежемесячно")),"Ошибка: поля или тип",IF(OR(E12<>INT(E12),E12<36526,E12>109574,G12<0),"Ошибка: дата или сумма",IF(AND(H12<>"",NOT(ISNUMBER(H12))),"Ошибка: последний срок",IF(AND(ISNUMBER(H12),OR(H12<E12,H12<>INT(H12))),"Ошибка: последний срок",IF(COUNTIFS($A$12:$A$111,A12)<>1,"Ошибка: повтор ID","OK")))))) -> OK | L12: =IF(K12="OK",IF(H12="",DATE(2199,12,31),H12),"") -> 109574 | M12: =IF(AND(K12="OK",ISNUMBER(Календарь!$C$6)),IF(MIN(Календарь!$C$6-1,$L12)<$E12,0,IF($F12="Разово",1,IF($F12="Еженедельно",INT((MIN(Календарь!$C$6-1,$L12)-$E12)/7)+1,(YEAR(MIN(Календарь!$C$6-1,$L12))-YEAR($E12))*12+MONTH(MIN(Календарь!$C$6-1,$L12))-MONTH($E12)+1-IF(DAY(MIN(Календарь!$C$6-1,$L12))<MIN(DAY($E12),DAY(EOMONTH(MIN(Календарь!$C$6-1,$L12),0))),1,0)))),"") -> 0 | N12: =IF(OR(K12<>"OK",NOT(ISNUMBER(Календарь!$L$5))),"",MAX(0,IF(MIN(Календарь!$L$5,$L12)<$E12,0,IF($F12="Разово",1,IF($F12="Еженедельно",INT((MIN(Календарь!$L$5,$L12)-$E12)/7)+1,(YEAR(MIN(Календарь!$L$5,$L12))-YEAR($E12))*12+MONTH(MIN(Календарь!$L$5,$L12))-MONTH($E12)+1-IF(DAY(MIN(Календарь!$L$5,$L12))<MIN(DAY($E12),DAY(EOMONTH(MIN(Календарь!$L$5,$L12),0))),1,0))))-$M12)*$G12) -> 180000 | O12: =IF(OR(K12<>"OK",NOT(ISNUMBER(Календарь!$C$32-1))),"",MAX(0,IF(MIN(Календарь!$C$32-1,$L12)<$E12,0,IF($F12="Разово",1,IF($F12="Еженедельно",INT((MIN(Календарь!$C$32-1,$L12)-$E12)/7)+1,(YEAR(MIN(Календарь!$C$32-1,$L12))-YEAR($E12))*12+MONTH(MIN(Календарь!$C$32-1,$L12))-MONTH($E12)+1-IF(DAY(MIN(Календарь!$C$32-1,$L12))<MIN(DAY($E12),DAY(EOMONTH(MIN(Календарь!$C$32-1,$L12),0))),1,0))))-$M12)*$G12) -> 0 | P12: =IF(OR(K12<>"OK",NOT(ISNUMBER(Календарь!C$33))),"",MAX(0,IF(MIN(Календарь!C$33,$L12)<$E12,0,IF($F12="Разово",1,IF($F12="Еженедельно",INT((MIN(Календарь!C$33,$L12)-$E12)/7)+1,(YEAR(MIN(Календарь!C$33,$L12))-YEAR($E12))*12+MONTH(MIN(Календарь!C$33,$L12))-MONTH($E12)+1-IF(DAY(MIN(Календарь!C$33,$L12))<MIN(DAY($E12),DAY(EOMONTH(MIN(Календарь!C$33,$L12),0))),1,0))))-$M12)*$G12) -> 180000 | Q12: =IF(OR(K12<>"OK",NOT(ISNUMBER(Календарь!D$33))),"",MAX(0,IF(MIN(Календарь!D$33,$L12)<$E12,0,IF($F12="Разово",1,IF($F12="Еженедельно",INT((MIN(Календарь!D$33,$L12)-$E12)/7)+1,(YEAR(MIN(Календарь!D$33,$L12))-YEAR($E12))*12+MONTH(MIN(Календарь!D$33,$L12))-MONTH($E12)+1-IF(DAY(MIN(Календарь!D$33,$L12))<MIN(DAY($E12),DAY(EOMONTH(MIN(Календарь!D$33,$L12),0))),1,0))))-$M12)*$G12) -> 180000 | R12: =IF(OR(K12<>"OK",NOT(ISNUMBER(Календарь!E$33))),"",MAX(0,IF(MIN(Календарь!E$33,$L12)<$E12,0,IF($F12="Разово",1,IF($F12="Еженедельно",INT((MIN(Календарь!E$33,$L12)-$E12)/7)+1,(YEAR(MIN(Календарь!E$33,$L12))-YEAR($E12))*12+MONTH(MIN(Календарь!E$33,$L12))-MONTH($E12)+1-IF(DAY(MIN(Календарь!E$33,$L12))<MIN(DAY($E12),DAY(EOMONTH(MIN(Календарь!E$33,$L12),0))),1,0))))-$M12)*$G12) -> 180000 | S12: =IF(OR(K12<>"OK",NOT(ISNUMBER(Календарь!F$33))),"",MAX(0,IF(MIN(Календарь!F$33,$L12)<$E12,0,IF($F12="Разово",1,IF($F12="Еженедельно",INT((MIN(Календарь!F$33,$L12)-$E12)/7)+1,(YEAR(MIN(Календарь!F$33,$L12))-YEAR($E12))*12+MONTH(MIN(Календарь!F$33,$L12))-MONTH($E12)+1-IF(DAY(MIN(Календарь!F$33,$L12))<MIN(DAY($E12),DAY(EOMONTH(MIN(Календарь!F$33,$L12),0))),1,0))))-$M12)*$G12) -> 180000 | T12: =IF(OR(K12<>"OK",NOT(ISNUMBER(Календарь!G$33))),"",MAX(0,IF(MIN(Календарь!G$33,$L12)<$E12,0,IF($F12="Разово",1,IF($F12="Еженедельно",INT((MIN(Календарь!G$33,$L12)-$E12)/7)+1,(YEAR(MIN(Календарь!G$33,$L12))-YEAR($E12))*12+MONTH(MIN(Календарь!G$33,$L12))-MONTH($E12)+1-IF(DAY(MIN(Календарь!G$33,$L12))<MIN(DAY($E12),DAY(EOMONTH(MIN(Календарь!G$33,$L12),0))),1,0))))-$M12)*$G12) -> 180000 | U12: =IF(OR(K12<>"OK",NOT(ISNUMBER(Календарь!H$33))),"",MAX(0,IF(MIN(Календарь!H$33,$L12)<$E12,0,IF($F12="Разово",1,IF($F12="Еженедельно",INT((MIN(Календарь!H$33,$L12)-$E12)/7)+1,(YEAR(MIN(Календарь!H$33,$L12))-YEAR($E12))*12+MONTH(MIN(Календарь!H$33,$L12))-MONTH($E12)+1-IF(DAY(MIN(Календарь!H$33,$L12))<MIN(DAY($E12),DAY(EOMONTH(MIN(Календарь!H$33,$L12),0))),1,0))))-$M12)*$G12) -> 180000 | V12: =IF(OR(K12<>"OK",NOT(ISNUMBER(Календарь!I$33))),"",MAX(0,IF(MIN(Календарь!I$33,$L12)<$E12,0,IF($F12="Разово",1,IF($F12="Еженедельно",INT((MIN(Календарь!I$33,$L12)-$E12)/7)+1,(YEAR(MIN(Календарь!I$33,$L12))-YEAR($E12))*12+MONTH(MIN(Календарь!I$33,$L12))-MONTH($E12)+1-IF(DAY(MIN(Календарь!I$33,$L12))<MIN(DAY($E12),DAY(EOMONTH(MIN(Календарь!I$33,$L12),0))),1,0))))-$M12)*$G12) -> 180000 | W12: =IF(OR(K12<>"OK",NOT(ISNUMBER(Календарь!J$33))),"",MAX(0,IF(MIN(Календарь!J$33,$L12)<$E12,0,IF($F12="Разово",1,IF($F12="Еженедельно",INT((MIN(Календарь!J$33,$L12)-$E12)/7)+1,(YEAR(MIN(Календарь!J$33,$L12))-YEAR($E12))*12+MONTH(MIN(Календарь!J$33,$L12))-MONTH($E12)+1-IF(DAY(MIN(Календарь!J$33,$L12))<MIN(DAY($E12),DAY(EOMONTH(MIN(Календарь!J$33,$L12),0))),1,0))))-$M12)*$G12) -> 180000 | X12: =IF(OR(K12<>"OK",NOT(ISNUMBER(Календарь!K$33))),"",MAX(0,IF(MIN(Календарь!K$33,$L12)<$E12,0,IF($F12="Разово",1,IF($F12="Еженедельно",INT((MIN(Календарь!K$33,$L12)-$E12)/7)+1,(YEAR(MIN(Календарь!K$33,$L12))-YEAR($E12))*12+MONTH(MIN(Календарь!K$33,$L12))-MONTH($E12)+1-IF(DAY(MIN(Календарь!K$33,$L12))<MIN(DAY($E12),DAY(EOMONTH(MIN(Календарь!K$33,$L12),0))),1,0))))-$M12)*$G12) -> 180000 | Y12: =IF(OR(K12<>"OK",NOT(ISNUMBER(Календарь!L$33))),"",MAX(0,IF(MIN(Календарь!L$33,$L12)<$E12,0,IF($F12="Разово",1,IF($F12="Еженедельно",INT((MIN(Календарь!L$33,$L12)-$E12)/7)+1,(YEAR(MIN(Календарь!L$33,$L12))-YEAR($E12))*12+MONTH(MIN(Календарь!L$33,$L12))-MONTH($E12)+1-IF(DAY(MIN(Календарь!L$33,$L12))<MIN(DAY($E12),DAY(EOMONTH(MIN(Календарь!L$33,$L12),0))),1,0))))-$M12)*$G12) -> 180000 | Z12: =IF(OR(K12<>"OK",NOT(ISNUMBER(Календарь!M$33))),"",MAX(0,IF(MIN(Календарь!M$33,$L12)<$E12,0,IF($F12="Разово",1,IF($F12="Еженедельно",INT((MIN(Календарь!M$33,$L12)-$E12)/7)+1,(YEAR(MIN(Календарь!M$33,$L12))-YEAR($E12))*12+MONTH(MIN(Календарь!M$33,$L12))-MONTH($E12)+1-IF(DAY(MIN(Календарь!M$33,$L12))<MIN(DAY($E12),DAY(EOMONTH(MIN(Календарь!M$33,$L12),0))),1,0))))-$M12)*$G12) -> 180000 | AA12: =IF(OR(K12<>"OK",NOT(ISNUMBER(Календарь!N$33))),"",MAX(0,IF(MIN(Календарь!N$33,$L12)<$E12,0,IF($F12="Разово",1,IF($F12="Еженедельно",INT((MIN(Календарь!N$33,$L12)-$E12)/7)+1,(YEAR(MIN(Календарь!N$33,$L12))-YEAR($E12))*12+MONTH(MIN(Календарь!N$33,$L12))-MONTH($E12)+1-IF(DAY(MIN(Календарь!N$33,$L12))<MIN(DAY($E12),DAY(EOMONTH(MIN(Календарь!N$33,$L12),0))),1,0))))-$M12)*$G12) -> 180000
A13: П-002 | B13: Аренда офиса | C13: Аренда | D13: Расход | E13: 46268 | F13: Ежемесячно | G13: 50000 | I13: Повторяется до заполнения H | K13: =IF(COUNTA(A13:I13)=0,"",IF(OR(A13="",B13="",C13="",AND(D13<>"Приход",D13<>"Расход"),NOT(ISNUMBER(E13)),NOT(ISNUMBER(G13)),AND(F13<>"Разово",F13<>"Еженедельно",F13<>"Ежемесячно")),"Ошибка: поля или тип",IF(OR(E13<>INT(E13),E13<36526,E13>109574,G13<0),"Ошибка: дата или сумма",IF(AND(H13<>"",NOT(ISNUMBER(H13))),"Ошибка: последний срок",IF(AND(ISNUMBER(H13),OR(H13<E13,H13<>INT(H13))),"Ошибка: последний срок",IF(COUNTIFS($A$12:$A$111,A13)<>1,"Ошибка: повтор ID","OK")))))) -> OK | L13: =IF(K13="OK",IF(H13="",DATE(2199,12,31),H13),"") -> 109574 | M13: =IF(AND(K13="OK",ISNUMBER(Календарь!$C$6)),IF(MIN(Календарь!$C$6-1,$L13)<$E13,0,IF($F13="Разово",1,IF($F13="Еженедельно",INT((MIN(Календарь!$C$6-1,$L13)-$E13)/7)+1,(YEAR(MIN(Календарь!$C$6-1,$L13))-YEAR($E13))*12+MONTH(MIN(Календарь!$C$6-1,$L13))-MONTH($E13)+1-IF(DAY(MIN(Календарь!$C$6-1,$L13))<MIN(DAY($E13),DAY(EOMONTH(MIN(Календарь!$C$6-1,$L13),0))),1,0)))),"") -> 0 | N13: =IF(OR(K13<>"OK",NOT(ISNUMBER(Календарь!$L$5))),"",MAX(0,IF(MIN(Календарь!$L$5,$L13)<$E13,0,IF($F13="Разово",1,IF($F13="Еженедельно",INT((MIN(Календарь!$L$5,$L13)-$E13)/7)+1,(YEAR(MIN(Календарь!$L$5,$L13))-YEAR($E13))*12+MONTH(MIN(Календарь!$L$5,$L13))-MONTH($E13)+1-IF(DAY(MIN(Календарь!$L$5,$L13))<MIN(DAY($E13),DAY(EOMONTH(MIN(Календарь!$L$5,$L13),0))),1,0))))-$M13)*$G13) -> 50000 | O13: =IF(OR(K13<>"OK",NOT(ISNUMBER(Календарь!$C$32-1))),"",MAX(0,IF(MIN(Календарь!$C$32-1,$L13)<$E13,0,IF($F13="Разово",1,IF($F13="Еженедельно",INT((MIN(Календарь!$C$32-1,$L13)-$E13)/7)+1,(YEAR(MIN(Календарь!$C$32-1,$L13))-YEAR($E13))*12+MONTH(MIN(Календарь!$C$32-1,$L13))-MONTH($E13)+1-IF(DAY(MIN(Календарь!$C$32-1,$L13))<MIN(DAY($E13),DAY(EOMONTH(MIN(Календарь!$C$32-1,$L13),0))),1,0))))-$M13)*$G13) -> 0 | P13: =IF(OR(K13<>"OK",NOT(ISNUMBER(Календарь!C$33))),"",MAX(0,IF(MIN(Календарь!C$33,$L13)<$E13,0,IF($F13="Разово",1,IF($F13="Еженедельно",INT((MIN(Календарь!C$33,$L13)-$E13)/7)+1,(YEAR(MIN(Календарь!C$33,$L13))-YEAR($E13))*12+MONTH(MIN(Календарь!C$33,$L13))-MONTH($E13)+1-IF(DAY(MIN(Календарь!C$33,$L13))<MIN(DAY($E13),DAY(EOMONTH(MIN(Календарь!C$33,$L13),0))),1,0))))-$M13)*$G13) -> 50000 | Q13: =IF(OR(K13<>"OK",NOT(ISNUMBER(Календарь!D$33))),"",MAX(0,IF(MIN(Календарь!D$33,$L13)<$E13,0,IF($F13="Разово",1,IF($F13="Еженедельно",INT((MIN(Календарь!D$33,$L13)-$E13)/7)+1,(YEAR(MIN(Календарь!D$33,$L13))-YEAR($E13))*12+MONTH(MIN(Календарь!D$33,$L13))-MONTH($E13)+1-IF(DAY(MIN(Календарь!D$33,$L13))<MIN(DAY($E13),DAY(EOMONTH(MIN(Календарь!D$33,$L13),0))),1,0))))-$M13)*$G13) -> 50000 | R13: =IF(OR(K13<>"OK",NOT(ISNUMBER(Календарь!E$33))),"",MAX(0,IF(MIN(Календарь!E$33,$L13)<$E13,0,IF($F13="Разово",1,IF($F13="Еженедельно",INT((MIN(Календарь!E$33,$L13)-$E13)/7)+1,(YEAR(MIN(Календарь!E$33,$L13))-YEAR($E13))*12+MONTH(MIN(Календарь!E$33,$L13))-MONTH($E13)+1-IF(DAY(MIN(Календарь!E$33,$L13))<MIN(DAY($E13),DAY(EOMONTH(MIN(Календарь!E$33,$L13),0))),1,0))))-$M13)*$G13) -> 50000 | S13: =IF(OR(K13<>"OK",NOT(ISNUMBER(Календарь!F$33))),"",MAX(0,IF(MIN(Календарь!F$33,$L13)<$E13,0,IF($F13="Разово",1,IF($F13="Еженедельно",INT((MIN(Календарь!F$33,$L13)-$E13)/7)+1,(YEAR(MIN(Календарь!F$33,$L13))-YEAR($E13))*12+MONTH(MIN(Календарь!F$33,$L13))-MONTH($E13)+1-IF(DAY(MIN(Календарь!F$33,$L13))<MIN(DAY($E13),DAY(EOMONTH(MIN(Календарь!F$33,$L13),0))),1,0))))-$M13)*$G13) -> 50000 | T13: =IF(OR(K13<>"OK",NOT(ISNUMBER(Календарь!G$33))),"",MAX(0,IF(MIN(Календарь!G$33,$L13)<$E13,0,IF($F13="Разово",1,IF($F13="Еженедельно",INT((MIN(Календарь!G$33,$L13)-$E13)/7)+1,(YEAR(MIN(Календарь!G$33,$L13))-YEAR($E13))*12+MONTH(MIN(Календарь!G$33,$L13))-MONTH($E13)+1-IF(DAY(MIN(Календарь!G$33,$L13))<MIN(DAY($E13),DAY(EOMONTH(MIN(Календарь!G$33,$L13),0))),1,0))))-$M13)*$G13) -> 100000 | U13: =IF(OR(K13<>"OK",NOT(ISNUMBER(Календарь!H$33))),"",MAX(0,IF(MIN(Календарь!H$33,$L13)<$E13,0,IF($F13="Разово",1,IF($F13="Еженедельно",INT((MIN(Календарь!H$33,$L13)-$E13)/7)+1,(YEAR(MIN(Календарь!H$33,$L13))-YEAR($E13))*12+MONTH(MIN(Календарь!H$33,$L13))-MONTH($E13)+1-IF(DAY(MIN(Календарь!H$33,$L13))<MIN(DAY($E13),DAY(EOMONTH(MIN(Календарь!H$33,$L13),0))),1,0))))-$M13)*$G13) -> 100000 | V13: =IF(OR(K13<>"OK",NOT(ISNUMBER(Календарь!I$33))),"",MAX(0,IF(MIN(Календарь!I$33,$L13)<$E13,0,IF($F13="Разово",1,IF($F13="Еженедельно",INT((MIN(Календарь!I$33,$L13)-$E13)/7)+1,(YEAR(MIN(Календарь!I$33,$L13))-YEAR($E13))*12+MONTH(MIN(Календарь!I$33,$L13))-MONTH($E13)+1-IF(DAY(MIN(Календарь!I$33,$L13))<MIN(DAY($E13),DAY(EOMONTH(MIN(Календарь!I$33,$L13),0))),1,0))))-$M13)*$G13) -> 100000 | W13: =IF(OR(K13<>"OK",NOT(ISNUMBER(Календарь!J$33))),"",MAX(0,IF(MIN(Календарь!J$33,$L13)<$E13,0,IF($F13="Разово",1,IF($F13="Еженедельно",INT((MIN(Календарь!J$33,$L13)-$E13)/7)+1,(YEAR(MIN(Календарь!J$33,$L13))-YEAR($E13))*12+MONTH(MIN(Календарь!J$33,$L13))-MONTH($E13)+1-IF(DAY(MIN(Календарь!J$33,$L13))<MIN(DAY($E13),DAY(EOMONTH(MIN(Календарь!J$33,$L13),0))),1,0))))-$M13)*$G13) -> 100000 | X13: =IF(OR(K13<>"OK",NOT(ISNUMBER(Календарь!K$33))),"",MAX(0,IF(MIN(Календарь!K$33,$L13)<$E13,0,IF($F13="Разово",1,IF($F13="Еженедельно",INT((MIN(Календарь!K$33,$L13)-$E13)/7)+1,(YEAR(MIN(Календарь!K$33,$L13))-YEAR($E13))*12+MONTH(MIN(Календарь!K$33,$L13))-MONTH($E13)+1-IF(DAY(MIN(Календарь!K$33,$L13))<MIN(DAY($E13),DAY(EOMONTH(MIN(Календарь!K$33,$L13),0))),1,0))))-$M13)*$G13) -> 100000 | Y13: =IF(OR(K13<>"OK",NOT(ISNUMBER(Календарь!L$33))),"",MAX(0,IF(MIN(Календарь!L$33,$L13)<$E13,0,IF($F13="Разово",1,IF($F13="Еженедельно",INT((MIN(Календарь!L$33,$L13)-$E13)/7)+1,(YEAR(MIN(Календарь!L$33,$L13))-YEAR($E13))*12+MONTH(MIN(Календарь!L$33,$L13))-MONTH($E13)+1-IF(DAY(MIN(Календарь!L$33,$L13))<MIN(DAY($E13),DAY(EOMONTH(MIN(Календарь!L$33,$L13),0))),1,0))))-$M13)*$G13) -> 150000 | Z13: =IF(OR(K13<>"OK",NOT(ISNUMBER(Календарь!M$33))),"",MAX(0,IF(MIN(Календарь!M$33,$L13)<$E13,0,IF($F13="Разово",1,IF($F13="Еженедельно",INT((MIN(Календарь!M$33,$L13)-$E13)/7)+1,(YEAR(MIN(Календарь!M$33,$L13))-YEAR($E13))*12+MONTH(MIN(Календарь!M$33,$L13))-MONTH($E13)+1-IF(DAY(MIN(Календарь!M$33,$L13))<MIN(DAY($E13),DAY(EOMONTH(MIN(Календарь!M$33,$L13),0))),1,0))))-$M13)*$G13) -> 150000 | AA13: =IF(OR(K13<>"OK",NOT(ISNUMBER(Календарь!N$33))),"",MAX(0,IF(MIN(Календарь!N$33,$L13)<$E13,0,IF($F13="Разово",1,IF($F13="Еженедельно",INT((MIN(Календарь!N$33,$L13)-$E13)/7)+1,(YEAR(MIN(Календарь!N$33,$L13))-YEAR($E13))*12+MONTH(MIN(Календарь!N$33,$L13))-MONTH($E13)+1-IF(DAY(MIN(Календарь!N$33,$L13))<MIN(DAY($E13),DAY(EOMONTH(MIN(Календарь!N$33,$L13),0))),1,0))))-$M13)*$G13) -> 150000
A14: П-003 | B14: Заказ Б | C14: Клиенты | D14: Приход | E14: 46270 | F14: Разово | G14: 80000 | I14: Частичные оплаты отдельными строками | K14: =IF(COUNTA(A14:I14)=0,"",IF(OR(A14="",B14="",C14="",AND(D14<>"Приход",D14<>"Расход"),NOT(ISNUMBER(E14)),NOT(ISNUMBER(G14)),AND(F14<>"Разово",F14<>"Еженедельно",F14<>"Ежемесячно")),"Ошибка: поля или тип",IF(OR(E14<>INT(E14),E14<36526,E14>109574,G14<0),"Ошибка: дата или сумма",IF(AND(H14<>"",NOT(ISNUMBER(H14))),"Ошибка: последний срок",IF(AND(ISNUMBER(H14),OR(H14<E14,H14<>INT(H14))),"Ошибка: последний срок",IF(COUNTIFS($A$12:$A$111,A14)<>1,"Ошибка: повтор ID","OK")))))) -> OK | L14: =IF(K14="OK",IF(H14="",DATE(2199,12,31),H14),"") -> 109574 | M14: =IF(AND(K14="OK",ISNUMBER(Календарь!$C$6)),IF(MIN(Календарь!$C$6-1,$L14)<$E14,0,IF($F14="Разово",1,IF($F14="Еженедельно",INT((MIN(Календарь!$C$6-1,$L14)-$E14)/7)+1,(YEAR(MIN(Календарь!$C$6-1,$L14))-YEAR($E14))*12+MONTH(MIN(Календарь!$C$6-1,$L14))-MONTH($E14)+1-IF(DAY(MIN(Календарь!$C$6-1,$L14))<MIN(DAY($E14),DAY(EOMONTH(MIN(Календарь!$C$6-1,$L14),0))),1,0)))),"") -> 0 | N14: =IF(OR(K14<>"OK",NOT(ISNUMBER(Календарь!$L$5))),"",MAX(0,IF(MIN(Календарь!$L$5,$L14)<$E14,0,IF($F14="Разово",1,IF($F14="Еженедельно",INT((MIN(Календарь!$L$5,$L14)-$E14)/7)+1,(YEAR(MIN(Календарь!$L$5,$L14))-YEAR($E14))*12+MONTH(MIN(Календарь!$L$5,$L14))-MONTH($E14)+1-IF(DAY(MIN(Календарь!$L$5,$L14))<MIN(DAY($E14),DAY(EOMONTH(MIN(Календарь!$L$5,$L14),0))),1,0))))-$M14)*$G14) -> 80000 | O14: =IF(OR(K14<>"OK",NOT(ISNUMBER(Календарь!$C$32-1))),"",MAX(0,IF(MIN(Календарь!$C$32-1,$L14)<$E14,0,IF($F14="Разово",1,IF($F14="Еженедельно",INT((MIN(Календарь!$C$32-1,$L14)-$E14)/7)+1,(YEAR(MIN(Календарь!$C$32-1,$L14))-YEAR($E14))*12+MONTH(MIN(Календарь!$C$32-1,$L14))-MONTH($E14)+1-IF(DAY(MIN(Календарь!$C$32-1,$L14))<MIN(DAY($E14),DAY(EOMONTH(MIN(Календарь!$C$32-1,$L14),0))),1,0))))-$M14)*$G14) -> 0 | P14: =IF(OR(K14<>"OK",NOT(ISNUMBER(Календарь!C$33))),"",MAX(0,IF(MIN(Календарь!C$33,$L14)<$E14,0,IF($F14="Разово",1,IF($F14="Еженедельно",INT((MIN(Календарь!C$33,$L14)-$E14)/7)+1,(YEAR(MIN(Календарь!C$33,$L14))-YEAR($E14))*12+MONTH(MIN(Календарь!C$33,$L14))-MONTH($E14)+1-IF(DAY(MIN(Календарь!C$33,$L14))<MIN(DAY($E14),DAY(EOMONTH(MIN(Календарь!C$33,$L14),0))),1,0))))-$M14)*$G14) -> 80000 | Q14: =IF(OR(K14<>"OK",NOT(ISNUMBER(Календарь!D$33))),"",MAX(0,IF(MIN(Календарь!D$33,$L14)<$E14,0,IF($F14="Разово",1,IF($F14="Еженедельно",INT((MIN(Календарь!D$33,$L14)-$E14)/7)+1,(YEAR(MIN(Календарь!D$33,$L14))-YEAR($E14))*12+MONTH(MIN(Календарь!D$33,$L14))-MONTH($E14)+1-IF(DAY(MIN(Календарь!D$33,$L14))<MIN(DAY($E14),DAY(EOMONTH(MIN(Календарь!D$33,$L14),0))),1,0))))-$M14)*$G14) -> 80000 | R14: =IF(OR(K14<>"OK",NOT(ISNUMBER(Календарь!E$33))),"",MAX(0,IF(MIN(Календарь!E$33,$L14)<$E14,0,IF($F14="Разово",1,IF($F14="Еженедельно",INT((MIN(Календарь!E$33,$L14)-$E14)/7)+1,(YEAR(MIN(Календарь!E$33,$L14))-YEAR($E14))*12+MONTH(MIN(Календарь!E$33,$L14))-MONTH($E14)+1-IF(DAY(MIN(Календарь!E$33,$L14))<MIN(DAY($E14),DAY(EOMONTH(MIN(Календарь!E$33,$L14),0))),1,0))))-$M14)*$G14) -> 80000 | S14: =IF(OR(K14<>"OK",NOT(ISNUMBER(Календарь!F$33))),"",MAX(0,IF(MIN(Календарь!F$33,$L14)<$E14,0,IF($F14="Разово",1,IF($F14="Еженедельно",INT((MIN(Календарь!F$33,$L14)-$E14)/7)+1,(YEAR(MIN(Календарь!F$33,$L14))-YEAR($E14))*12+MONTH(MIN(Календарь!F$33,$L14))-MONTH($E14)+1-IF(DAY(MIN(Календарь!F$33,$L14))<MIN(DAY($E14),DAY(EOMONTH(MIN(Календарь!F$33,$L14),0))),1,0))))-$M14)*$G14) -> 80000 | T14: =IF(OR(K14<>"OK",NOT(ISNUMBER(Календарь!G$33))),"",MAX(0,IF(MIN(Календарь!G$33,$L14)<$E14,0,IF($F14="Разово",1,IF($F14="Еженедельно",INT((MIN(Календарь!G$33,$L14)-$E14)/7)+1,(YEAR(MIN(Календарь!G$33,$L14))-YEAR($E14))*12+MONTH(MIN(Календарь!G$33,$L14))-MONTH($E14)+1-IF(DAY(MIN(Календарь!G$33,$L14))<MIN(DAY($E14),DAY(EOMONTH(MIN(Календарь!G$33,$L14),0))),1,0))))-$M14)*$G14) -> 80000 | U14: =IF(OR(K14<>"OK",NOT(ISNUMBER(Календарь!H$33))),"",MAX(0,IF(MIN(Календарь!H$33,$L14)<$E14,0,IF($F14="Разово",1,IF($F14="Еженедельно",INT((MIN(Календарь!H$33,$L14)-$E14)/7)+1,(YEAR(MIN(Календарь!H$33,$L14))-YEAR($E14))*12+MONTH(MIN(Календарь!H$33,$L14))-MONTH($E14)+1-IF(DAY(MIN(Календарь!H$33,$L14))<MIN(DAY($E14),DAY(EOMONTH(MIN(Календарь!H$33,$L14),0))),1,0))))-$M14)*$G14) -> 80000 | V14: =IF(OR(K14<>"OK",NOT(ISNUMBER(Календарь!I$33))),"",MAX(0,IF(MIN(Календарь!I$33,$L14)<$E14,0,IF($F14="Разово",1,IF($F14="Еженедельно",INT((MIN(Календарь!I$33,$L14)-$E14)/7)+1,(YEAR(MIN(Календарь!I$33,$L14))-YEAR($E14))*12+MONTH(MIN(Календарь!I$33,$L14))-MONTH($E14)+1-IF(DAY(MIN(Календарь!I$33,$L14))<MIN(DAY($E14),DAY(EOMONTH(MIN(Календарь!I$33,$L14),0))),1,0))))-$M14)*$G14) -> 80000 | W14: =IF(OR(K14<>"OK",NOT(ISNUMBER(Календарь!J$33))),"",MAX(0,IF(MIN(Календарь!J$33,$L14)<$E14,0,IF($F14="Разово",1,IF($F14="Еженедельно",INT((MIN(Календарь!J$33,$L14)-$E14)/7)+1,(YEAR(MIN(Календарь!J$33,$L14))-YEAR($E14))*12+MONTH(MIN(Календарь!J$33,$L14))-MONTH($E14)+1-IF(DAY(MIN(Календарь!J$33,$L14))<MIN(DAY($E14),DAY(EOMONTH(MIN(Календарь!J$33,$L14),0))),1,0))))-$M14)*$G14) -> 80000 | X14: =IF(OR(K14<>"OK",NOT(ISNUMBER(Календарь!K$33))),"",MAX(0,IF(MIN(Календарь!K$33,$L14)<$E14,0,IF($F14="Разово",1,IF($F14="Еженедельно",INT((MIN(Календарь!K$33,$L14)-$E14)/7)+1,(YEAR(MIN(Календарь!K$33,$L14))-YEAR($E14))*12+MONTH(MIN(Календарь!K$33,$L14))-MONTH($E14)+1-IF(DAY(MIN(Календарь!K$33,$L14))<MIN(DAY($E14),DAY(EOMONTH(MIN(Календарь!K$33,$L14),0))),1,0))))-$M14)*$G14) -> 80000 | Y14: =IF(OR(K14<>"OK",NOT(ISNUMBER(Календарь!L$33))),"",MAX(0,IF(MIN(Календарь!L$33,$L14)<$E14,0,IF($F14="Разово",1,IF($F14="Еженедельно",INT((MIN(Календарь!L$33,$L14)-$E14)/7)+1,(YEAR(MIN(Календарь!L$33,$L14))-YEAR($E14))*12+MONTH(MIN(Календарь!L$33,$L14))-MONTH($E14)+1-IF(DAY(MIN(Календарь!L$33,$L14))<MIN(DAY($E14),DAY(EOMONTH(MIN(Календарь!L$33,$L14),0))),1,0))))-$M14)*$G14) -> 80000 | Z14: =IF(OR(K14<>"OK",NOT(ISNUMBER(Календарь!M$33))),"",MAX(0,IF(MIN(Календарь!M$33,$L14)<$E14,0,IF($F14="Разово",1,IF($F14="Еженедельно",INT((MIN(Календарь!M$33,$L14)-$E14)/7)+1,(YEAR(MIN(Календарь!M$33,$L14))-YEAR($E14))*12+MONTH(MIN(Календарь!M$33,$L14))-MONTH($E14)+1-IF(DAY(MIN(Календарь!M$33,$L14))<MIN(DAY($E14),DAY(EOMONTH(MIN(Календарь!M$33,$L14),0))),1,0))))-$M14)*$G14) -> 80000 | AA14: =IF(OR(K14<>"OK",NOT(ISNUMBER(Календарь!N$33))),"",MAX(0,IF(MIN(Календарь!N$33,$L14)<$E14,0,IF($F14="Разово",1,IF($F14="Еженедельно",INT((MIN(Календарь!N$33,$L14)-$E14)/7)+1,(YEAR(MIN(Календарь!N$33,$L14))-YEAR($E14))*12+MONTH(MIN(Календарь!N$33,$L14))-MONTH($E14)+1-IF(DAY(MIN(Календарь!N$33,$L14))<MIN(DAY($E14),DAY(EOMONTH(MIN(Календарь!N$33,$L14),0))),1,0))))-$M14)*$G14) -> 80000
